Package: podkat Version: 1.38.0 Command: /Library/Frameworks/R.framework/Resources/bin/R CMD build --keep-empty-dirs --no-resave-data podkat StartedAt: 2025-01-27 21:35:57 -0500 (Mon, 27 Jan 2025) EndedAt: 2025-01-27 21:41:19 -0500 (Mon, 27 Jan 2025) EllapsedTime: 322.5 seconds RetCode: 0 Status: OK PackageFile: podkat_1.38.0.tar.gz PackageFileSize: 1.09 MiB