Package: podkat Version: 1.38.0 Command: rm -rf podkat.buildbin-libdir && mkdir podkat.buildbin-libdir && /Users/biocbuild/BBS/utils/build-universal.sh podkat_1.38.0.tar.gz /Library/Frameworks/R.framework/Resources/bin/R podkat.buildbin-libdir StartedAt: 2025-01-28 14:08:20 -0500 (Tue, 28 Jan 2025) EndedAt: 2025-01-28 14:13:07 -0500 (Tue, 28 Jan 2025) EllapsedTime: 286.6 seconds RetCode: 0 Status: OK PackageFile: podkat_1.38.0.tgz PackageFileSize: 2.48 MiB