Package: podkat Version: 1.38.0 Command: rm -rf podkat.buildbin-libdir && mkdir podkat.buildbin-libdir && /Users/biocbuild/BBS/utils/build-universal.sh podkat_1.38.0.tar.gz /Library/Frameworks/R.framework/Resources/bin/R podkat.buildbin-libdir StartedAt: 2025-04-02 15:40:00 -0400 (Wed, 02 Apr 2025) EndedAt: 2025-04-02 15:41:27 -0400 (Wed, 02 Apr 2025) EllapsedTime: 86.6 seconds RetCode: 0 Status: OK PackageFile: podkat_1.38.0.tgz PackageFileSize: 2.389 MiB