Package: pmp Version: 1.18.0 Command: /home/biocbuild/R/R/bin/R CMD INSTALL pmp StartedAt: 2025-01-27 21:33:40 -0000 (Mon, 27 Jan 2025) EndedAt: 2025-01-27 21:34:09 -0000 (Mon, 27 Jan 2025) EllapsedTime: 29.3 seconds RetCode: 0 Status: OK