Package: pmp Version: 1.18.0 Command: /home/biocbuild/R/R/bin/R CMD build --keep-empty-dirs --no-resave-data pmp StartedAt: 2025-01-28 02:24:30 -0000 (Tue, 28 Jan 2025) EndedAt: 2025-01-28 02:26:23 -0000 (Tue, 28 Jan 2025) EllapsedTime: 113.0 seconds RetCode: 0 Status: OK PackageFile: pmp_1.18.0.tar.gz PackageFileSize: 3.552 MiB