Package: pmp Version: 1.18.0 Command: F:\biocbuild\bbs-3.20-bioc\R\bin\R.exe CMD INSTALL pmp StartedAt: 2025-03-31 15:51:39 -0400 (Mon, 31 Mar 2025) EndedAt: 2025-03-31 15:52:11 -0400 (Mon, 31 Mar 2025) EllapsedTime: 31.8 seconds RetCode: 0 Status: OK