Package: pmp Version: 1.18.0 Command: /Library/Frameworks/R.framework/Resources/bin/R CMD INSTALL pmp StartedAt: 2025-01-27 15:56:27 -0500 (Mon, 27 Jan 2025) EndedAt: 2025-01-27 15:57:19 -0500 (Mon, 27 Jan 2025) EllapsedTime: 51.9 seconds RetCode: 0 Status: OK