Package: pmp Version: 1.18.0 Command: rm -rf pmp.buildbin-libdir && mkdir pmp.buildbin-libdir && /Users/biocbuild/BBS/utils/build-universal.sh pmp_1.18.0.tar.gz /Library/Frameworks/R.framework/Resources/bin/R pmp.buildbin-libdir StartedAt: 2025-02-01 16:13:36 -0500 (Sat, 01 Feb 2025) EndedAt: 2025-02-01 16:14:09 -0500 (Sat, 01 Feb 2025) EllapsedTime: 32.9 seconds RetCode: 0 Status: OK PackageFile: pmp_1.18.0.tgz PackageFileSize: 5.436 MiB