Package: pmm Version: 1.38.0 Command: rm -rf pmm.buildbin-libdir && mkdir pmm.buildbin-libdir && F:\biocbuild\bbs-3.20-bioc\R\bin\R.exe CMD INSTALL --build --library=pmm.buildbin-libdir pmm_1.38.0.tar.gz StartedAt: 2025-02-04 09:11:51 -0500 (Tue, 04 Feb 2025) EndedAt: 2025-02-04 09:12:00 -0500 (Tue, 04 Feb 2025) EllapsedTime: 8.9 seconds RetCode: 0 Status: OK PackageFile: pmm_1.38.0.zip PackageFileSize: 681.5 KiB