Package: pmm Version: 1.38.0 Command: /home/biocbuild/bbs-3.20-bioc/R/bin/R CMD check --install=check:pmm.install-out.txt --library=/home/biocbuild/bbs-3.20-bioc/R/site-library --timings pmm_1.38.0.tar.gz StartedAt: 2025-02-04 01:16:57 -0500 (Tue, 04 Feb 2025) EndedAt: 2025-02-04 01:18:31 -0500 (Tue, 04 Feb 2025) EllapsedTime: 94.1 seconds RetCode: 0 Status: OK CheckDir: pmm.Rcheck Warnings: 0