Package: pmm Version: 1.38.0 Command: /home/biocbuild/bbs-3.20-bioc/R/bin/R CMD build --keep-empty-dirs --no-resave-data --md5 pmm StartedAt: 2025-02-03 18:45:28 -0500 (Mon, 03 Feb 2025) EndedAt: 2025-02-03 18:45:52 -0500 (Mon, 03 Feb 2025) EllapsedTime: 24.0 seconds RetCode: 0 Status: OK PackageFile: pmm_1.38.0.tar.gz PackageFileSize: 777 KiB