Package: plyxp Version: 1.0.0 Command: /home/biocbuild/bbs-3.20-bioc/R/bin/R CMD INSTALL plyxp StartedAt: 2025-02-03 15:20:51 -0500 (Mon, 03 Feb 2025) EndedAt: 2025-02-03 15:21:21 -0500 (Mon, 03 Feb 2025) EllapsedTime: 29.6 seconds RetCode: 0 Status: OK