Package: plyranges Version: 1.26.0 Command: /Library/Frameworks/R.framework/Resources/bin/R CMD check --install=check:plyranges.install-out.txt --library=/Library/Frameworks/R.framework/Resources/library --no-vignettes --timings plyranges_1.26.0.tar.gz StartedAt: 2025-04-02 04:23:17 -0400 (Wed, 02 Apr 2025) EndedAt: 2025-04-02 04:28:18 -0400 (Wed, 02 Apr 2025) EllapsedTime: 300.3 seconds RetCode: 1 Status: ERROR CheckDir: plyranges.Rcheck Warnings: NA