Package: plyinteractions Version: 1.4.0 Command: rm -rf plyinteractions.buildbin-libdir && mkdir plyinteractions.buildbin-libdir && /Users/biocbuild/BBS/utils/build-universal.sh plyinteractions_1.4.0.tar.gz /Library/Frameworks/R.framework/Resources/bin/R plyinteractions.buildbin-libdir StartedAt: 2025-02-01 16:13:23 -0500 (Sat, 01 Feb 2025) EndedAt: 2025-02-01 16:14:11 -0500 (Sat, 01 Feb 2025) EllapsedTime: 47.7 seconds RetCode: 0 Status: OK PackageFile: plyinteractions_1.4.0.tgz PackageFileSize: 4.172 MiB