Package: plotGrouper Version: 1.24.0 Command: chmod a+r plotGrouper -R && F:\biocbuild\bbs-3.20-bioc\R\bin\R.exe CMD build --keep-empty-dirs --no-resave-data plotGrouper StartedAt: 2025-02-03 21:16:30 -0500 (Mon, 03 Feb 2025) EndedAt: 2025-02-03 21:16:41 -0500 (Mon, 03 Feb 2025) EllapsedTime: 11.1 seconds RetCode: 1 Status: ERROR PackageFile: None PackageFileSize: NA