Package: plotGrouper Version: 1.24.0 Command: rm -rf plotGrouper.buildbin-libdir && mkdir plotGrouper.buildbin-libdir && /Users/biocbuild/BBS/utils/build-universal.sh plotGrouper_1.24.0.tar.gz /Library/Frameworks/R.framework/Resources/bin/R plotGrouper.buildbin-libdir StartedAt: 2024-11-20 04:42:56 -0500 (Wed, 20 Nov 2024) EndedAt: 2024-11-20 04:43:08 -0500 (Wed, 20 Nov 2024) EllapsedTime: 11.5 seconds RetCode: 0 Status: OK PackageFile: plotGrouper_1.24.0.tgz PackageFileSize: 369.8 KiB