Package: plotGrouper Version: 1.24.0 Command: rm -rf plotGrouper.buildbin-libdir && mkdir plotGrouper.buildbin-libdir && /Users/biocbuild/BBS/utils/build-universal.sh plotGrouper_1.24.0.tar.gz /Library/Frameworks/R.framework/Resources/bin/R plotGrouper.buildbin-libdir StartedAt: 2025-01-29 15:56:25 -0500 (Wed, 29 Jan 2025) EndedAt: 2025-01-29 15:56:34 -0500 (Wed, 29 Jan 2025) EllapsedTime: 9.1 seconds RetCode: 0 Status: OK PackageFile: plotGrouper_1.24.0.tgz PackageFileSize: 369.7 KiB