Package: plier Version: 1.76.0 Command: F:\biocbuild\bbs-3.20-bioc\R\bin\R.exe CMD INSTALL plier StartedAt: 2025-03-31 15:27:15 -0400 (Mon, 31 Mar 2025) EndedAt: 2025-03-31 15:27:27 -0400 (Mon, 31 Mar 2025) EllapsedTime: 12.4 seconds RetCode: 0 Status: OK