Package: plier Version: 1.76.0 Command: rm -rf plier.buildbin-libdir && mkdir plier.buildbin-libdir && F:\biocbuild\bbs-3.20-bioc\R\bin\R.exe CMD INSTALL --build --library=plier.buildbin-libdir plier_1.76.0.tar.gz StartedAt: 2025-04-01 08:53:12 -0400 (Tue, 01 Apr 2025) EndedAt: 2025-04-01 08:53:26 -0400 (Tue, 01 Apr 2025) EllapsedTime: 13.5 seconds RetCode: 0 Status: OK PackageFile: plier_1.76.0.zip PackageFileSize: 99.21 KiB