Package: plier Version: 1.76.0 Command: /Library/Frameworks/R.framework/Resources/bin/R CMD INSTALL plier StartedAt: 2025-01-27 15:09:27 -0500 (Mon, 27 Jan 2025) EndedAt: 2025-01-27 15:09:34 -0500 (Mon, 27 Jan 2025) EllapsedTime: 6.3 seconds RetCode: 0 Status: OK