Package: plier Version: 1.76.0 Command: rm -rf plier.buildbin-libdir && mkdir plier.buildbin-libdir && /Users/biocbuild/BBS/utils/build-universal.sh plier_1.76.0.tar.gz /Library/Frameworks/R.framework/Resources/bin/R plier.buildbin-libdir StartedAt: 2025-01-29 15:56:17 -0500 (Wed, 29 Jan 2025) EndedAt: 2025-01-29 15:56:25 -0500 (Wed, 29 Jan 2025) EllapsedTime: 8.0 seconds RetCode: 0 Status: OK PackageFile: plier_1.76.0.tgz PackageFileSize: 39.79 KiB