Package: plgem Version: 1.78.0 Command: rm -rf plgem.buildbin-libdir && mkdir plgem.buildbin-libdir && F:\biocbuild\bbs-3.20-bioc\R\bin\R.exe CMD INSTALL --build --library=plgem.buildbin-libdir plgem_1.78.0.tar.gz StartedAt: 2025-01-28 08:49:37 -0500 (Tue, 28 Jan 2025) EndedAt: 2025-01-28 08:49:47 -0500 (Tue, 28 Jan 2025) EllapsedTime: 9.4 seconds RetCode: 0 Status: OK PackageFile: plgem_1.78.0.zip PackageFileSize: 1006 KiB