Package: plasmut Version: 1.4.0 Command: /home/biocbuild/R/R/bin/R CMD check --install=check:plasmut.install-out.txt --library=/home/biocbuild/R/R/site-library --no-vignettes --timings plasmut_1.4.0.tar.gz StartedAt: 2025-01-28 10:04:29 -0000 (Tue, 28 Jan 2025) EndedAt: 2025-01-28 10:04:57 -0000 (Tue, 28 Jan 2025) EllapsedTime: 28.0 seconds RetCode: 0 Status: OK CheckDir: plasmut.Rcheck Warnings: 0