Package: plasmut Version: 1.4.0 Command: rm -rf plasmut.buildbin-libdir && mkdir plasmut.buildbin-libdir && /Users/biocbuild/BBS/utils/build-universal.sh plasmut_1.4.0.tar.gz /Library/Frameworks/R.framework/Resources/bin/R plasmut.buildbin-libdir StartedAt: 2025-04-01 12:27:55 -0400 (Tue, 01 Apr 2025) EndedAt: 2025-04-01 12:28:04 -0400 (Tue, 01 Apr 2025) EllapsedTime: 8.7 seconds RetCode: 0 Status: OK PackageFile: plasmut_1.4.0.tgz PackageFileSize: 360.7 KiB