Package: planet Version: 1.14.0 Command: /Library/Frameworks/R.framework/Resources/bin/R CMD INSTALL planet StartedAt: 2025-01-27 15:13:22 -0500 (Mon, 27 Jan 2025) EndedAt: 2025-01-27 15:13:41 -0500 (Mon, 27 Jan 2025) EllapsedTime: 18.3 seconds RetCode: 0 Status: OK