Package: pipeFrame Version: 1.22.0 Command: /home/biocbuild/R/R/bin/R CMD INSTALL pipeFrame StartedAt: 2025-03-31 20:41:32 -0000 (Mon, 31 Mar 2025) EndedAt: 2025-03-31 20:42:12 -0000 (Mon, 31 Mar 2025) EllapsedTime: 39.3 seconds RetCode: 0 Status: OK