Package: pipeComp Version: 1.16.0 Command: F:\biocbuild\bbs-3.20-bioc\R\bin\R.exe CMD check --no-multiarch --install=check:pipeComp.install-out.txt --library=F:\biocbuild\bbs-3.20-bioc\R\library --no-vignettes --timings pipeComp_1.16.0.tar.gz StartedAt: 2025-04-01 04:36:12 -0400 (Tue, 01 Apr 2025) EndedAt: 2025-04-01 04:43:35 -0400 (Tue, 01 Apr 2025) EllapsedTime: 443.8 seconds RetCode: 0 Status: OK CheckDir: pipeComp.Rcheck Warnings: 0