Package: pipeComp Version: 1.16.0 Command: /Library/Frameworks/R.framework/Resources/bin/R CMD build --keep-empty-dirs --no-resave-data pipeComp StartedAt: 2025-04-01 05:10:38 -0400 (Tue, 01 Apr 2025) EndedAt: 2025-04-01 05:12:40 -0400 (Tue, 01 Apr 2025) EllapsedTime: 121.8 seconds RetCode: 0 Status: OK PackageFile: pipeComp_1.16.0.tar.gz PackageFileSize: 4.006 MiB