Package: pickgene Version: 1.78.0 Command: /home/biocbuild/R/R/bin/R CMD check --install=check:pickgene.install-out.txt --library=/home/biocbuild/R/R/site-library --no-vignettes --timings pickgene_1.78.0.tar.gz StartedAt: 2025-01-31 09:08:51 -0000 (Fri, 31 Jan 2025) EndedAt: 2025-01-31 09:09:12 -0000 (Fri, 31 Jan 2025) EllapsedTime: 21.0 seconds RetCode: 0 Status: WARNINGS CheckDir: pickgene.Rcheck Warnings: 1