Package: pickgene Version: 1.78.0 Command: F:\biocbuild\bbs-3.20-bioc\R\bin\R.exe CMD INSTALL pickgene StartedAt: 2025-03-31 15:22:17 -0400 (Mon, 31 Mar 2025) EndedAt: 2025-03-31 15:22:30 -0400 (Mon, 31 Mar 2025) EllapsedTime: 12.9 seconds RetCode: 0 Status: OK