Package: pickgene Version: 1.78.0 Command: chmod a+r pickgene -R && F:\biocbuild\bbs-3.20-bioc\R\bin\R.exe CMD build --keep-empty-dirs --no-resave-data pickgene StartedAt: 2025-03-31 21:01:34 -0400 (Mon, 31 Mar 2025) EndedAt: 2025-03-31 21:01:45 -0400 (Mon, 31 Mar 2025) EllapsedTime: 11.0 seconds RetCode: 0 Status: OK PackageFile: pickgene_1.78.0.tar.gz PackageFileSize: 196.1 KiB