Package: pickgene Version: 1.78.0 Command: /Library/Frameworks/R.framework/Resources/bin/R CMD INSTALL pickgene StartedAt: 2025-01-30 15:07:45 -0500 (Thu, 30 Jan 2025) EndedAt: 2025-01-30 15:08:06 -0500 (Thu, 30 Jan 2025) EllapsedTime: 21.2 seconds RetCode: 0 Status: OK