Package: pickgene Version: 1.78.0 Command: /Library/Frameworks/R.framework/Resources/bin/R CMD build --keep-empty-dirs --no-resave-data pickgene StartedAt: 2025-03-31 21:01:34 -0400 (Mon, 31 Mar 2025) EndedAt: 2025-03-31 21:01:52 -0400 (Mon, 31 Mar 2025) EllapsedTime: 17.3 seconds RetCode: 0 Status: OK PackageFile: pickgene_1.78.0.tar.gz PackageFileSize: 305.1 KiB