Package: pickgene Version: 1.78.0 Command: /Library/Frameworks/R.framework/Resources/bin/R CMD check --install=check:pickgene.install-out.txt --library=/Library/Frameworks/R.framework/Resources/library --no-vignettes --timings pickgene_1.78.0.tar.gz StartedAt: 2025-02-01 04:43:42 -0500 (Sat, 01 Feb 2025) EndedAt: 2025-02-01 04:44:10 -0500 (Sat, 01 Feb 2025) EllapsedTime: 28.1 seconds RetCode: 0 Status: WARNINGS CheckDir: pickgene.Rcheck Warnings: 1