Package: piano Version: 2.22.0 Command: /Library/Frameworks/R.framework/Resources/bin/R CMD INSTALL piano StartedAt: 2025-03-31 17:07:24 -0400 (Mon, 31 Mar 2025) EndedAt: 2025-03-31 17:07:40 -0400 (Mon, 31 Mar 2025) EllapsedTime: 16.3 seconds RetCode: 0 Status: OK