Package: piano Version: 2.22.0 Command: /Library/Frameworks/R.framework/Resources/bin/R CMD build --keep-empty-dirs --no-resave-data piano StartedAt: 2025-04-01 05:09:00 -0400 (Tue, 01 Apr 2025) EndedAt: 2025-04-01 05:09:49 -0400 (Tue, 01 Apr 2025) EllapsedTime: 48.8 seconds RetCode: 0 Status: OK PackageFile: piano_2.22.0.tar.gz PackageFileSize: 1.542 MiB