Package: phosphonormalizer Version: 1.30.0 Command: /home/biocbuild/R/R/bin/R CMD INSTALL phosphonormalizer StartedAt: 2025-03-31 20:14:08 -0000 (Mon, 31 Mar 2025) EndedAt: 2025-03-31 20:14:18 -0000 (Mon, 31 Mar 2025) EllapsedTime: 9.9 seconds RetCode: 0 Status: OK