Package: phosphonormalizer Version: 1.30.0 Command: /Library/Frameworks/R.framework/Resources/bin/R CMD INSTALL phosphonormalizer StartedAt: 2025-03-31 15:07:04 -0400 (Mon, 31 Mar 2025) EndedAt: 2025-03-31 15:07:13 -0400 (Mon, 31 Mar 2025) EllapsedTime: 8.7 seconds RetCode: 0 Status: OK