Package: phosphonormalizer Version: 1.30.0 Command: /Library/Frameworks/R.framework/Resources/bin/R CMD build --keep-empty-dirs --no-resave-data phosphonormalizer StartedAt: 2025-03-31 21:00:32 -0400 (Mon, 31 Mar 2025) EndedAt: 2025-03-31 21:00:57 -0400 (Mon, 31 Mar 2025) EllapsedTime: 25.0 seconds RetCode: 0 Status: OK PackageFile: phosphonormalizer_1.30.0.tar.gz PackageFileSize: 2.7 MiB