Package: phosphonormalizer Version: 1.30.0 Command: rm -rf phosphonormalizer.buildbin-libdir && mkdir phosphonormalizer.buildbin-libdir && /Users/biocbuild/BBS/utils/build-universal.sh phosphonormalizer_1.30.0.tar.gz /Library/Frameworks/R.framework/Resources/bin/R phosphonormalizer.buildbin-libdir StartedAt: 2025-04-01 12:27:11 -0400 (Tue, 01 Apr 2025) EndedAt: 2025-04-01 12:27:18 -0400 (Tue, 01 Apr 2025) EllapsedTime: 6.5 seconds RetCode: 0 Status: OK PackageFile: phosphonormalizer_1.30.0.tgz PackageFileSize: 2.709 MiB