Package: philr Version: 1.32.0 Command: /home/biocbuild/R/R/bin/R CMD build --keep-empty-dirs --no-resave-data philr StartedAt: 2025-02-11 01:32:14 -0000 (Tue, 11 Feb 2025) EndedAt: 2025-02-11 01:33:03 -0000 (Tue, 11 Feb 2025) EllapsedTime: 49.0 seconds RetCode: 0 Status: OK PackageFile: philr_1.32.0.tar.gz PackageFileSize: 390.4 KiB