Package: phenopath Version: 1.30.0 Command: /home/biocbuild/bbs-3.20-bioc/R/bin/R CMD INSTALL phenopath StartedAt: 2025-03-31 15:16:16 -0400 (Mon, 31 Mar 2025) EndedAt: 2025-03-31 15:16:47 -0400 (Mon, 31 Mar 2025) EllapsedTime: 30.3 seconds RetCode: 0 Status: OK