Package: phenomis Version: 1.8.0 Command: /home/biocbuild/R/R/bin/R CMD INSTALL phenomis StartedAt: 2025-01-27 21:56:52 -0000 (Mon, 27 Jan 2025) EndedAt: 2025-01-27 21:57:42 -0000 (Mon, 27 Jan 2025) EllapsedTime: 50.1 seconds RetCode: 0 Status: OK