Package: phenoTest Version: 1.54.0 Command: /Library/Frameworks/R.framework/Resources/bin/R CMD check --install=check:phenoTest.install-out.txt --library=/Library/Frameworks/R.framework/Resources/library --no-vignettes --timings phenoTest_1.54.0.tar.gz StartedAt: 2024-11-20 01:08:52 -0500 (Wed, 20 Nov 2024) EndedAt: 2024-11-20 01:15:45 -0500 (Wed, 20 Nov 2024) EllapsedTime: 412.4 seconds RetCode: 0 Status: OK CheckDir: phenoTest.Rcheck Warnings: 0