Package: phenoTest Version: 1.54.0 Command: rm -rf phenoTest.buildbin-libdir && mkdir phenoTest.buildbin-libdir && /Users/biocbuild/BBS/utils/build-universal.sh phenoTest_1.54.0.tar.gz /Library/Frameworks/R.framework/Resources/bin/R phenoTest.buildbin-libdir StartedAt: 2024-11-20 04:42:28 -0500 (Wed, 20 Nov 2024) EndedAt: 2024-11-20 04:43:20 -0500 (Wed, 20 Nov 2024) EllapsedTime: 52.2 seconds RetCode: 0 Status: OK PackageFile: phenoTest_1.54.0.tgz PackageFileSize: 1.889 MiB