Package: phenoTest Version: 1.54.0 Command: /Library/Frameworks/R.framework/Resources/bin/R CMD check --install=check:phenoTest.install-out.txt --library=/Library/Frameworks/R.framework/Resources/library --no-vignettes --timings phenoTest_1.54.0.tar.gz StartedAt: 2024-11-09 09:40:41 -0500 (Sat, 09 Nov 2024) EndedAt: 2024-11-09 09:45:31 -0500 (Sat, 09 Nov 2024) EllapsedTime: 289.9 seconds RetCode: 0 Status: OK CheckDir: phenoTest.Rcheck Warnings: 0