Package: phenoTest Version: 1.54.0 Command: /Library/Frameworks/R.framework/Resources/bin/R CMD INSTALL phenoTest StartedAt: 2025-02-03 17:11:09 -0500 (Mon, 03 Feb 2025) EndedAt: 2025-02-03 17:11:47 -0500 (Mon, 03 Feb 2025) EllapsedTime: 37.7 seconds RetCode: 0 Status: OK