Package: phantasus Version: 1.26.0 Command: /home/biocbuild/R/R/bin/R CMD INSTALL phantasus StartedAt: 2025-01-27 21:45:38 -0000 (Mon, 27 Jan 2025) EndedAt: 2025-01-27 21:46:19 -0000 (Mon, 27 Jan 2025) EllapsedTime: 41.1 seconds RetCode: 0 Status: OK