Package: phantasus Version: 1.26.0 Command: /home/biocbuild/R/R/bin/R CMD build --keep-empty-dirs --no-resave-data phantasus StartedAt: 2025-01-28 02:20:27 -0000 (Tue, 28 Jan 2025) EndedAt: 2025-01-28 02:21:17 -0000 (Tue, 28 Jan 2025) EllapsedTime: 50.0 seconds RetCode: 0 Status: OK PackageFile: phantasus_1.26.0.tar.gz PackageFileSize: 9.609 MiB