Package: phantasus Version: 1.26.0 Command: F:\biocbuild\bbs-3.20-bioc\R\bin\R.exe CMD INSTALL phantasus StartedAt: 2025-02-03 16:24:16 -0500 (Mon, 03 Feb 2025) EndedAt: 2025-02-03 16:25:39 -0500 (Mon, 03 Feb 2025) EllapsedTime: 83.4 seconds RetCode: 0 Status: OK